BEGIN:VCALENDAR
VERSION:2.0
PRODID:-//eventon.com NONSGML v1.0//EN
CALSCALE:GREGORIAN
METHOD:PUBLISH
BEGIN:VEVENT
UID:69eb5260b26a5
DTSTAMP:20260424T112208Z
DTSTART:20260619T184500Z
DTEND:20260619T200000Z
LOCATION:Gibson Hall Garelochhead\,  Argyll and Bute\,  G84 0AT
SUMMARY:Quiz Night at Gibson Hall
DESCRIPTION:BYOB Quiz night with raffle\,  doors open 7.45pm\,  £3 per per
 son. Teams up to six people.\nhttps://destinationhelensburgh.org/events/qui
 z-night-at-gibson-hall/var/ri-1.l-L1
URL:https://destinationhelensburgh.org/events/quiz-night-at-gibson-hall/var/ri-1.l-L1
END:VEVENT
END:VCALENDAR