BEGIN:VCALENDAR
VERSION:2.0
PRODID:-//eventon.com NONSGML v1.0//EN
CALSCALE:GREGORIAN
METHOD:PUBLISH
BEGIN:VEVENT
UID:69e9051b858dc
DTSTAMP:20260422T172755Z
DTSTART:20260108T180000Z
DTEND:20260108T190000Z
LOCATION:Helensburgh and Lomond Civic Centre 38 East Clyde Street\,  Helensburgh\,  G84 7PF
SUMMARY:Sound Bath with The Sonic Den
DESCRIPTION:The Sonic Den offers Meditative Sound Journey events hosted by 
 Tommy Regan\,  a former international recording/touring musician and curren
 t Schools Music Specialist. Tommy has also trained as a qualified Therapeut
 ic Sound Practitioner and now offers Meditative Sound Bath sessions for gro
 ups\,  individuals\,  corporate\,  and wellness events. Find out more and[.
 .]\nhttps://destinationhelensburgh.org/events/sound-bath-with-the-sonic-den
 /
URL:https://destinationhelensburgh.org/events/sound-bath-with-the-sonic-den/
END:VEVENT
END:VCALENDAR