BEGIN:VCALENDAR
VERSION:2.0
PRODID:-//eventon.com NONSGML v1.0//EN
CALSCALE:GREGORIAN
METHOD:PUBLISH
BEGIN:VEVENT
UID:69eb6b6377348
DTSTAMP:20260424T130851Z
DTSTART:20260613T190000Z
DTEND:20260613T225900Z
LOCATION:Helensburgh and Lomond Civic Centre 38 East Clyde Street\,  Helensburgh\,  G84 7PF
SUMMARY:Neon Nights 80s Disco Party
DESCRIPTION:Summer 80s Neon Nights Disco Party at Helensburgh and Lomond Ci
 vic Centre. Bring your glow sticks and dress loud. Tickets on sale soon via
  Eventbrite\nhttps://destinationhelensburgh.org/events/neon-nights-80s-disc
 o-party/
URL:https://destinationhelensburgh.org/events/neon-nights-80s-disco-party/
END:VEVENT
END:VCALENDAR