BEGIN:VCALENDAR
VERSION:2.0
PRODID:-//eventon.com NONSGML v1.0//EN
CALSCALE:GREGORIAN
METHOD:PUBLISH
BEGIN:VEVENT
UID:69ea246b1a29f
DTSTAMP:20260423T135347Z
DTSTART:20250823T130000Z
DTEND:20250823T225900Z
LOCATION:Victoria Halls Sinclair Street\,  Helensburgh\,  G84 8TU
SUMMARY:HGHS Annual Flower & Vegetable Show
DESCRIPTION:Helensburgh and Gareloch Horticultural Society will be holding 
 their 173rd Annual Flower and Vegetable Show in 2025. With over 120 categor
 ies there is something for everyone including floral\,  vegetable\,  baking
 \,  craft\,  photography and children’s categories. Entries are welcome f
 rom members and non-members so check out the show schedule &#8211; availabl
 e[..]\nhttps://destinationhelensburgh.org/events/hghs-annual-flower-vegetab
 le-show-2/
URL:https://destinationhelensburgh.org/events/hghs-annual-flower-vegetable-show-2/
END:VEVENT
END:VCALENDAR