BEGIN:VCALENDAR
VERSION:2.0
PRODID:-//eventon.com NONSGML v1.0//EN
CALSCALE:GREGORIAN
METHOD:PUBLISH
BEGIN:VEVENT
UID:69e6ebf70b7ca
DTSTAMP:20260421T031607Z
DTSTART:20260515T183000Z
DTEND:20260515T225900Z
LOCATION:United Reform Church Helensburgh 35 West Princes St\,  Helensburgh\,  G84 8TF
SUMMARY:Savoy Quiz Night
DESCRIPTION:Join Helensburgh Savoy for their quiz night. £5 per person\,  
 teams of up to 6. Bar &amp; Raffle.\nhttps://destinationhelensburgh.org/eve
 nts/savoy-quiz-night-2022/
URL:https://destinationhelensburgh.org/events/savoy-quiz-night-2022/
END:VEVENT
END:VCALENDAR