BEGIN:VCALENDAR
VERSION:2.0
PRODID:-//eventon.com NONSGML v1.0//EN
CALSCALE:GREGORIAN
METHOD:PUBLISH
BEGIN:VEVENT
UID:69e7a9f76be4e
DTSTAMP:20260421T164647Z
DTSTART:20241201T110000Z
DTEND:20241201T160000Z
LOCATION:Scottish Submarine Centre West King St\,  Helensburgh\,  G84 8UN
SUMMARY:Santa's Submarine Experience
DESCRIPTION:SANTA&#8217;S SUBMARINE is a unique and magical Christmas exper
 ience and opens on December 1st. Tickets can be purchased at the door . Tic
 ket Prices are £10 per child\,  which includes a visit with Santa and a gr
 eat gift\,  and £2 for accompanying Adults. This is a walk in event\,  no[
 ..]\nhttps://destinationhelensburgh.org/events/santas-submarine-experience/
URL:https://destinationhelensburgh.org/events/santas-submarine-experience/
END:VEVENT
END:VCALENDAR