BEGIN:VCALENDAR
VERSION:2.0
PRODID:-//eventon.com NONSGML v1.0//EN
CALSCALE:GREGORIAN
METHOD:PUBLISH
BEGIN:VEVENT
UID:69e799207bb34
DTSTAMP:20260421T153456Z
DTSTART:20230422T110000Z
DTEND:20230422T150000Z
LOCATION:Helensburgh and Lomond Civic Centre 38 East Clyde Street\,  Helensburgh\,  G84 7PF
SUMMARY:Back on the Rack - Clothing & Accessories Sale
DESCRIPTION:Come along to the Helensburgh and Lomond Civic Centre on the 22
 nd of April to sell your clothes and/or buy new ones! Do you have unwanted 
 garments\,  online purchases that have missed the return period\,  outgrown
  kids clothes\,  handbags or shoes that are collecting dust? Instead of sel
 ling these items[..]\nhttps://destinationhelensburgh.org/events/back-on-the
 -rack-clothing-accessories-sale/
URL:https://destinationhelensburgh.org/events/back-on-the-rack-clothing-accessories-sale/
END:VEVENT
END:VCALENDAR