BEGIN:VCALENDAR
VERSION:2.0
PRODID:-//eventon.com NONSGML v1.0//EN
CALSCALE:GREGORIAN
METHOD:PUBLISH
BEGIN:VEVENT
UID:69eba0925d414
DTSTAMP:20260424T165546Z
DTSTART:20230930T180000Z
DTEND:20230930T225000Z
LOCATION:Gibson Hall Garelochhead\,  Argyll and Bute\,  G84 0AT
SUMMARY:Magic Queen Concert
DESCRIPTION:Queen tribute band\,  with support from Napoleon Complex at the
  Gibson Hall Garelochhead\,  tickets from https://www.eventbrite.co.uk/e/ma
 gic-queen-tribute-band-tickets-607673225977\nhttps://destinationhelensburgh
 .org/events/magic-queen-concert/
URL:https://destinationhelensburgh.org/events/magic-queen-concert/
END:VEVENT
END:VCALENDAR