BEGIN:VCALENDAR
VERSION:2.0
PRODID:-//eventon.com NONSGML v1.0//EN
CALSCALE:GREGORIAN
METHOD:PUBLISH
BEGIN:VEVENT
UID:69e315a8a8ffa
DTSTAMP:20260418T052456Z
DTSTART:20250722
DTEND:20250723
LOCATION:Winterton Park Inveraray Inveraray\,  PA32 8XE
SUMMARY:Inveraray Highland Games
DESCRIPTION:The Inveraray Highland Games are a spectacular event of traditi
 onal sport\,  dance &amp; Scottish Heritage.\nhttps://destinationhelensburg
 h.org/events/inveraray-highland-games/
URL:https://destinationhelensburgh.org/events/inveraray-highland-games/
END:VEVENT
END:VCALENDAR